BEGIN:VCALENDAR
VERSION:2.0
PRODID:-//Penn Township - ECPv6.15.20//NONSGML v1.0//EN
CALSCALE:GREGORIAN
METHOD:PUBLISH
X-WR-CALNAME:Penn Township
X-ORIGINAL-URL:https://penntwp.com
X-WR-CALDESC:Events for Penn Township
REFRESH-INTERVAL;VALUE=DURATION:PT1H
X-Robots-Tag:noindex
X-PUBLISHED-TTL:PT1H
BEGIN:VTIMEZONE
TZID:America/New_York
BEGIN:DAYLIGHT
TZOFFSETFROM:-0500
TZOFFSETTO:-0400
TZNAME:EDT
DTSTART:20240310T070000
END:DAYLIGHT
BEGIN:STANDARD
TZOFFSETFROM:-0400
TZOFFSETTO:-0500
TZNAME:EST
DTSTART:20241103T060000
END:STANDARD
BEGIN:DAYLIGHT
TZOFFSETFROM:-0500
TZOFFSETTO:-0400
TZNAME:EDT
DTSTART:20250309T070000
END:DAYLIGHT
BEGIN:STANDARD
TZOFFSETFROM:-0400
TZOFFSETTO:-0500
TZNAME:EST
DTSTART:20251102T060000
END:STANDARD
BEGIN:DAYLIGHT
TZOFFSETFROM:-0500
TZOFFSETTO:-0400
TZNAME:EDT
DTSTART:20260308T070000
END:DAYLIGHT
BEGIN:STANDARD
TZOFFSETFROM:-0400
TZOFFSETTO:-0500
TZNAME:EST
DTSTART:20261101T060000
END:STANDARD
END:VTIMEZONE
BEGIN:VEVENT
DTSTART;TZID=America/New_York:20250402T190000
DTEND;TZID=America/New_York:20250402T200000
DTSTAMP:20260422T080922
CREATED:20250210T160719Z
LAST-MODIFIED:20250210T160719Z
UID:3572-1743620400-1743624000@penntwp.com
SUMMARY:Finance and Health & Sanitation Committee Meetings
DESCRIPTION:
URL:https://penntwp.com/event/finance-and-health-sanitation-committee-meetings/
LOCATION:Penn Township Municipal Building\, 20 Wayne Avenue\, Hanover\, Pennsylvania\, 17331
END:VEVENT
BEGIN:VEVENT
DTSTART;TZID=America/New_York:20250403T190000
DTEND;TZID=America/New_York:20250403T200000
DTSTAMP:20260422T080922
CREATED:20250210T160932Z
LAST-MODIFIED:20250210T160932Z
UID:3580-1743706800-1743710400@penntwp.com
SUMMARY:Planning Commission Meeting
DESCRIPTION:
URL:https://penntwp.com/event/planning-commission-meeting-2/
LOCATION:Penn Township Municipal Building\, 20 Wayne Avenue\, Hanover\, Pennsylvania\, 17331
END:VEVENT
BEGIN:VEVENT
DTSTART;TZID=America/New_York:20250405T100000
DTEND;TZID=America/New_York:20250405T110000
DTSTAMP:20260422T080922
CREATED:20250131T205613Z
LAST-MODIFIED:20250325T163215Z
UID:3532-1743847200-1743850800@penntwp.com
SUMMARY:Penn Township Easter Egg Hunt
DESCRIPTION:
URL:https://penntwp.com/event/penn-township-easter-egg-hunt/
LOCATION:Penn Township Community Park Home of Kids Kingdom\, 4601 Grandview Road\, Hanover\, 17331\, United States
END:VEVENT
BEGIN:VEVENT
DTSTART;TZID=America/New_York:20250407T190000
DTEND;TZID=America/New_York:20250407T200000
DTSTAMP:20260422T080922
CREATED:20250210T160820Z
LAST-MODIFIED:20250407T183458Z
UID:3576-1744052400-1744056000@penntwp.com
SUMMARY:Public Safety and Public Works Committee Meetings
DESCRIPTION:Public Safety Agenda 0425 \nPublic Works Agenda 0425
URL:https://penntwp.com/event/public-works-and-public-safety-committee-meetings/
LOCATION:Penn Township Municipal Building\, 20 Wayne Avenue\, Hanover\, Pennsylvania\, 17331
END:VEVENT
BEGIN:VEVENT
DTSTART;TZID=America/New_York:20250408T190000
DTEND;TZID=America/New_York:20250408T200000
DTSTAMP:20260422T080922
CREATED:20250210T161104Z
LAST-MODIFIED:20250407T174511Z
UID:3584-1744138800-1744142400@penntwp.com
SUMMARY:Zoning Hearing Board-No Cases to be Heard-Meeting Cancelled
DESCRIPTION:
URL:https://penntwp.com/event/zoning-hearing-board-3/
LOCATION:Penn Township Municipal Building\, 20 Wayne Avenue\, Hanover\, Pennsylvania\, 17331
END:VEVENT
BEGIN:VEVENT
DTSTART;TZID=America/New_York:20250414T190000
DTEND;TZID=America/New_York:20250414T200000
DTSTAMP:20260422T080922
CREATED:20250408T130140Z
LAST-MODIFIED:20250408T130140Z
UID:3898-1744657200-1744660800@penntwp.com
SUMMARY:Civil Service Meeting
DESCRIPTION:Civil_Service_Agenda_0425
URL:https://penntwp.com/event/civil-service-meeting/
LOCATION:Penn Township Municipal Building\, 20 Wayne Avenue\, Hanover\, Pennsylvania\, 17331
END:VEVENT
BEGIN:VEVENT
DTSTART;TZID=America/New_York:20250417T173000
DTEND;TZID=America/New_York:20250417T183000
DTSTAMP:20260422T080922
CREATED:20250414T164804Z
LAST-MODIFIED:20250414T164804Z
UID:3932-1744911000-1744914600@penntwp.com
SUMMARY:Hanover Area Fire and Rescue Commission Meeting
DESCRIPTION:4-17-25 Agenda
URL:https://penntwp.com/event/hanover-area-fire-and-rescue-commission-meeting/
LOCATION:Hanover Area Fire and Rescue\, 204 Clover Lane\, Hanover\, Pennsylvania\, 17331
END:VEVENT
BEGIN:VEVENT
DTSTART;TZID=America/New_York:20250421T190000
DTEND;TZID=America/New_York:20250421T200000
DTSTAMP:20260422T080922
CREATED:20250210T160504Z
LAST-MODIFIED:20250418T115250Z
UID:3568-1745262000-1745265600@penntwp.com
SUMMARY:Board of Commissioners Meeting
DESCRIPTION:BOC Agenda 04-2025
URL:https://penntwp.com/event/board-of-commissioners-meeting-3/
LOCATION:Penn Township Municipal Building\, 20 Wayne Avenue\, Hanover\, Pennsylvania\, 17331
END:VEVENT
BEGIN:VEVENT
DTSTART;TZID=America/New_York:20250426T080000
DTEND;TZID=America/New_York:20250426T130000
DTSTAMP:20260422T080922
CREATED:20250408T133108Z
LAST-MODIFIED:20250408T133217Z
UID:3907-1745654400-1745672400@penntwp.com
SUMMARY:Free Penn Township Residential Shredding & Food Drive
DESCRIPTION:
URL:https://penntwp.com/event/free-penn-township-residential-shredding-food-drive/
LOCATION:Recycling Center\, 1020 Wilson Avenue\, Hanover\, PA\, 17331
END:VEVENT
END:VCALENDAR